BEGIN:VCALENDAR
VERSION:2.0
PRODID:-//eventon.com NONSGML v1.0//EN
CALSCALE:GREGORIAN
METHOD:PUBLISH
BEGIN:VEVENT
UID:69e73aba1b8c3
DTSTAMP:20260421T085210Z
DTSTART:20211021T220000Z
DTEND:20211022T000000Z
LOCATION:
SUMMARY:Membership Mixer - Pretzels & Beer
DESCRIPTION:Pretzels &amp; Beer Thursday\,  October 21 from 5 to 7 p.m. at 
 Von Elrod&#8217;s Beer Hall &amp; Kitchen\,  1004 4th Ave. N.\,  Nashville\
 ,  TN 37219 Pretzels\,  sliders\,  and your first drink are on PRSA Nashvil
 le. Click here to register by October 18. Free for Nashville chapter member
 s. $30 for prospective[..]\nhttps://www.prsanashville.com/events/membership
 -mixer-pretzels-beer/
URL:https://www.prsanashville.com/events/membership-mixer-pretzels-beer/
END:VEVENT
END:VCALENDAR